BEGIN:VCALENDAR
VERSION:2.0
PRODID:-//LifeStyles of Maryland, Inc. - ECPv6.15.20//NONSGML v1.0//EN
CALSCALE:GREGORIAN
METHOD:PUBLISH
X-WR-CALNAME:LifeStyles of Maryland, Inc.
X-ORIGINAL-URL:https://lifestylesofmd.org
X-WR-CALDESC:Events for LifeStyles of Maryland, Inc.
REFRESH-INTERVAL;VALUE=DURATION:PT1H
X-Robots-Tag:noindex
X-PUBLISHED-TTL:PT1H
BEGIN:VTIMEZONE
TZID:America/New_York
BEGIN:DAYLIGHT
TZOFFSETFROM:-0500
TZOFFSETTO:-0400
TZNAME:EDT
DTSTART:20250309T070000
END:DAYLIGHT
BEGIN:STANDARD
TZOFFSETFROM:-0400
TZOFFSETTO:-0500
TZNAME:EST
DTSTART:20251102T060000
END:STANDARD
BEGIN:DAYLIGHT
TZOFFSETFROM:-0500
TZOFFSETTO:-0400
TZNAME:EDT
DTSTART:20260308T070000
END:DAYLIGHT
BEGIN:STANDARD
TZOFFSETFROM:-0400
TZOFFSETTO:-0500
TZNAME:EST
DTSTART:20261101T060000
END:STANDARD
BEGIN:DAYLIGHT
TZOFFSETFROM:-0500
TZOFFSETTO:-0400
TZNAME:EDT
DTSTART:20270314T070000
END:DAYLIGHT
BEGIN:STANDARD
TZOFFSETFROM:-0400
TZOFFSETTO:-0500
TZNAME:EST
DTSTART:20271107T060000
END:STANDARD
BEGIN:DAYLIGHT
TZOFFSETFROM:-0500
TZOFFSETTO:-0400
TZNAME:EDT
DTSTART:20280312T070000
END:DAYLIGHT
BEGIN:STANDARD
TZOFFSETFROM:-0400
TZOFFSETTO:-0500
TZNAME:EST
DTSTART:20281105T060000
END:STANDARD
END:VTIMEZONE
BEGIN:VTIMEZONE
TZID:UTC
BEGIN:STANDARD
TZOFFSETFROM:+0000
TZOFFSETTO:+0000
TZNAME:UTC
DTSTART:20250101T000000
END:STANDARD
END:VTIMEZONE
BEGIN:VEVENT
DTSTART;TZID=America/New_York:20260921T110000
DTEND;TZID=America/New_York:20260921T130000
DTSTAMP:20260422T202102
CREATED:20260407T201229Z
LAST-MODIFIED:20260410T140055Z
UID:10003199-1789988400-1789995600@lifestylesofmd.org
SUMMARY:Cornerstone Behavioral Health
DESCRIPTION:Behavioral health services\, including mental health support\, counseling resources\, and guidance for individuals seeking care.
URL:https://lifestylesofmd.org/event/cornerstone-behavioral-health/2026-09-21/
LOCATION:White Plains LifeStyles Center\, 10453 Theodore Green Blvd.\, White Plains\, MD\, 20695\, United States
CATEGORIES:Homeless Services
END:VEVENT
BEGIN:VEVENT
DTSTART;TZID=UTC:20260924T103000
DTEND;TZID=UTC:20260924T130000
DTSTAMP:20260422T202102
CREATED:20260310T143316Z
LAST-MODIFIED:20260310T145033Z
UID:10003133-1790245800-1790254800@lifestylesofmd.org
SUMMARY:Charles County Homeless Street Outreach – LifeStyles Center (White Plains)
DESCRIPTION:Homeless Outreach is held at the LifeStyles Center in White Plains each Thursday\, providing food\, water\, transportation vouchers\, housing resources\, information\, and other support services to those in need. No appointment is necessary—just stop by.
URL:https://lifestylesofmd.org/event/charles-county-homeless-street-outreach-2-2-2/2026-09-24/
LOCATION:White Plains LifeStyles Center\, 10453 Theodore Green Blvd.\, White Plains\, MD\, 20695\, United States
END:VEVENT
BEGIN:VEVENT
DTSTART;TZID=UTC:20261001T103000
DTEND;TZID=UTC:20261001T130000
DTSTAMP:20260422T202102
CREATED:20260310T143316Z
LAST-MODIFIED:20260310T145033Z
UID:10003134-1790850600-1790859600@lifestylesofmd.org
SUMMARY:Charles County Homeless Street Outreach – LifeStyles Center (White Plains)
DESCRIPTION:Homeless Outreach is held at the LifeStyles Center in White Plains each Thursday\, providing food\, water\, transportation vouchers\, housing resources\, information\, and other support services to those in need. No appointment is necessary—just stop by.
URL:https://lifestylesofmd.org/event/charles-county-homeless-street-outreach-2-2-2/2026-10-01/
LOCATION:White Plains LifeStyles Center\, 10453 Theodore Green Blvd.\, White Plains\, MD\, 20695\, United States
END:VEVENT
BEGIN:VEVENT
DTSTART;TZID=America/New_York:20261005T110000
DTEND;TZID=America/New_York:20261005T130000
DTSTAMP:20260422T202102
CREATED:20260407T201229Z
LAST-MODIFIED:20260410T140055Z
UID:10003200-1791198000-1791205200@lifestylesofmd.org
SUMMARY:Cornerstone Behavioral Health
DESCRIPTION:Behavioral health services\, including mental health support\, counseling resources\, and guidance for individuals seeking care.
URL:https://lifestylesofmd.org/event/cornerstone-behavioral-health/2026-10-05/
LOCATION:White Plains LifeStyles Center\, 10453 Theodore Green Blvd.\, White Plains\, MD\, 20695\, United States
CATEGORIES:Homeless Services
END:VEVENT
BEGIN:VEVENT
DTSTART;TZID=UTC:20261008T103000
DTEND;TZID=UTC:20261008T130000
DTSTAMP:20260422T202102
CREATED:20260310T143316Z
LAST-MODIFIED:20260310T145033Z
UID:10003135-1791455400-1791464400@lifestylesofmd.org
SUMMARY:Charles County Homeless Street Outreach – LifeStyles Center (White Plains)
DESCRIPTION:Homeless Outreach is held at the LifeStyles Center in White Plains each Thursday\, providing food\, water\, transportation vouchers\, housing resources\, information\, and other support services to those in need. No appointment is necessary—just stop by.
URL:https://lifestylesofmd.org/event/charles-county-homeless-street-outreach-2-2-2/2026-10-08/
LOCATION:White Plains LifeStyles Center\, 10453 Theodore Green Blvd.\, White Plains\, MD\, 20695\, United States
END:VEVENT
BEGIN:VEVENT
DTSTART;TZID=UTC:20261015T103000
DTEND;TZID=UTC:20261015T130000
DTSTAMP:20260422T202102
CREATED:20260310T143316Z
LAST-MODIFIED:20260310T145033Z
UID:10003136-1792060200-1792069200@lifestylesofmd.org
SUMMARY:Charles County Homeless Street Outreach – LifeStyles Center (White Plains)
DESCRIPTION:Homeless Outreach is held at the LifeStyles Center in White Plains each Thursday\, providing food\, water\, transportation vouchers\, housing resources\, information\, and other support services to those in need. No appointment is necessary—just stop by.
URL:https://lifestylesofmd.org/event/charles-county-homeless-street-outreach-2-2-2/2026-10-15/
LOCATION:White Plains LifeStyles Center\, 10453 Theodore Green Blvd.\, White Plains\, MD\, 20695\, United States
END:VEVENT
BEGIN:VEVENT
DTSTART;TZID=America/New_York:20261019T110000
DTEND;TZID=America/New_York:20261019T130000
DTSTAMP:20260422T202102
CREATED:20260407T201229Z
LAST-MODIFIED:20260410T140055Z
UID:10003201-1792407600-1792414800@lifestylesofmd.org
SUMMARY:Cornerstone Behavioral Health
DESCRIPTION:Behavioral health services\, including mental health support\, counseling resources\, and guidance for individuals seeking care.
URL:https://lifestylesofmd.org/event/cornerstone-behavioral-health/2026-10-19/
LOCATION:White Plains LifeStyles Center\, 10453 Theodore Green Blvd.\, White Plains\, MD\, 20695\, United States
CATEGORIES:Homeless Services
END:VEVENT
BEGIN:VEVENT
DTSTART;TZID=UTC:20261022T103000
DTEND;TZID=UTC:20261022T130000
DTSTAMP:20260422T202102
CREATED:20260310T143316Z
LAST-MODIFIED:20260310T145033Z
UID:10003137-1792665000-1792674000@lifestylesofmd.org
SUMMARY:Charles County Homeless Street Outreach – LifeStyles Center (White Plains)
DESCRIPTION:Homeless Outreach is held at the LifeStyles Center in White Plains each Thursday\, providing food\, water\, transportation vouchers\, housing resources\, information\, and other support services to those in need. No appointment is necessary—just stop by.
URL:https://lifestylesofmd.org/event/charles-county-homeless-street-outreach-2-2-2/2026-10-22/
LOCATION:White Plains LifeStyles Center\, 10453 Theodore Green Blvd.\, White Plains\, MD\, 20695\, United States
END:VEVENT
BEGIN:VEVENT
DTSTART;TZID=UTC:20261029T103000
DTEND;TZID=UTC:20261029T130000
DTSTAMP:20260422T202102
CREATED:20260310T143316Z
LAST-MODIFIED:20260310T145033Z
UID:10003138-1793269800-1793278800@lifestylesofmd.org
SUMMARY:Charles County Homeless Street Outreach – LifeStyles Center (White Plains)
DESCRIPTION:Homeless Outreach is held at the LifeStyles Center in White Plains each Thursday\, providing food\, water\, transportation vouchers\, housing resources\, information\, and other support services to those in need. No appointment is necessary—just stop by.
URL:https://lifestylesofmd.org/event/charles-county-homeless-street-outreach-2-2-2/2026-10-29/
LOCATION:White Plains LifeStyles Center\, 10453 Theodore Green Blvd.\, White Plains\, MD\, 20695\, United States
END:VEVENT
BEGIN:VEVENT
DTSTART;TZID=America/New_York:20261102T110000
DTEND;TZID=America/New_York:20261102T130000
DTSTAMP:20260422T202102
CREATED:20260407T201229Z
LAST-MODIFIED:20260410T140055Z
UID:10003202-1793617200-1793624400@lifestylesofmd.org
SUMMARY:Cornerstone Behavioral Health
DESCRIPTION:Behavioral health services\, including mental health support\, counseling resources\, and guidance for individuals seeking care.
URL:https://lifestylesofmd.org/event/cornerstone-behavioral-health/2026-11-02/
LOCATION:White Plains LifeStyles Center\, 10453 Theodore Green Blvd.\, White Plains\, MD\, 20695\, United States
CATEGORIES:Homeless Services
END:VEVENT
BEGIN:VEVENT
DTSTART;TZID=UTC:20261105T103000
DTEND;TZID=UTC:20261105T130000
DTSTAMP:20260422T202102
CREATED:20260310T143316Z
LAST-MODIFIED:20260310T145033Z
UID:10003139-1793874600-1793883600@lifestylesofmd.org
SUMMARY:Charles County Homeless Street Outreach – LifeStyles Center (White Plains)
DESCRIPTION:Homeless Outreach is held at the LifeStyles Center in White Plains each Thursday\, providing food\, water\, transportation vouchers\, housing resources\, information\, and other support services to those in need. No appointment is necessary—just stop by.
URL:https://lifestylesofmd.org/event/charles-county-homeless-street-outreach-2-2-2/2026-11-05/
LOCATION:White Plains LifeStyles Center\, 10453 Theodore Green Blvd.\, White Plains\, MD\, 20695\, United States
END:VEVENT
BEGIN:VEVENT
DTSTART;TZID=UTC:20261112T103000
DTEND;TZID=UTC:20261112T130000
DTSTAMP:20260422T202102
CREATED:20260310T143316Z
LAST-MODIFIED:20260310T145033Z
UID:10003140-1794479400-1794488400@lifestylesofmd.org
SUMMARY:Charles County Homeless Street Outreach – LifeStyles Center (White Plains)
DESCRIPTION:Homeless Outreach is held at the LifeStyles Center in White Plains each Thursday\, providing food\, water\, transportation vouchers\, housing resources\, information\, and other support services to those in need. No appointment is necessary—just stop by.
URL:https://lifestylesofmd.org/event/charles-county-homeless-street-outreach-2-2-2/2026-11-12/
LOCATION:White Plains LifeStyles Center\, 10453 Theodore Green Blvd.\, White Plains\, MD\, 20695\, United States
END:VEVENT
BEGIN:VEVENT
DTSTART;TZID=America/New_York:20261114T080000
DTEND;TZID=America/New_York:20261114T170000
DTSTAMP:20260422T202102
CREATED:20260306T165123Z
LAST-MODIFIED:20260306T165123Z
UID:10002727-1794643200-1794675600@lifestylesofmd.org
SUMMARY:Walk to End Homelessness
DESCRIPTION:
URL:https://lifestylesofmd.org/event/walk-to-end-homelessness/
LOCATION:Town of La Plata\, 305 Queen Anne St\, La Plata\, MD\, 20646\, United States
END:VEVENT
BEGIN:VEVENT
DTSTART;TZID=America/New_York:20261116T110000
DTEND;TZID=America/New_York:20261116T130000
DTSTAMP:20260422T202102
CREATED:20260407T201229Z
LAST-MODIFIED:20260410T140055Z
UID:10003203-1794826800-1794834000@lifestylesofmd.org
SUMMARY:Cornerstone Behavioral Health
DESCRIPTION:Behavioral health services\, including mental health support\, counseling resources\, and guidance for individuals seeking care.
URL:https://lifestylesofmd.org/event/cornerstone-behavioral-health/2026-11-16/
LOCATION:White Plains LifeStyles Center\, 10453 Theodore Green Blvd.\, White Plains\, MD\, 20695\, United States
CATEGORIES:Homeless Services
END:VEVENT
BEGIN:VEVENT
DTSTART;TZID=UTC:20261119T103000
DTEND;TZID=UTC:20261119T130000
DTSTAMP:20260422T202102
CREATED:20260310T143316Z
LAST-MODIFIED:20260310T145033Z
UID:10003141-1795084200-1795093200@lifestylesofmd.org
SUMMARY:Charles County Homeless Street Outreach – LifeStyles Center (White Plains)
DESCRIPTION:Homeless Outreach is held at the LifeStyles Center in White Plains each Thursday\, providing food\, water\, transportation vouchers\, housing resources\, information\, and other support services to those in need. No appointment is necessary—just stop by.
URL:https://lifestylesofmd.org/event/charles-county-homeless-street-outreach-2-2-2/2026-11-19/
LOCATION:White Plains LifeStyles Center\, 10453 Theodore Green Blvd.\, White Plains\, MD\, 20695\, United States
END:VEVENT
BEGIN:VEVENT
DTSTART;TZID=America/New_York:20261123T080000
DTEND;TZID=America/New_York:20261123T170000
DTSTAMP:20260422T202102
CREATED:20260306T165134Z
LAST-MODIFIED:20260407T201648Z
UID:10002728-1795420800-1795453200@lifestylesofmd.org
SUMMARY:Thanksgiving Distribution
DESCRIPTION:
URL:https://lifestylesofmd.org/event/thanksgiving-distribution/
LOCATION:MD
CATEGORIES:Homeless Services
END:VEVENT
BEGIN:VEVENT
DTSTART;TZID=UTC:20261126T103000
DTEND;TZID=UTC:20261126T130000
DTSTAMP:20260422T202102
CREATED:20260310T143316Z
LAST-MODIFIED:20260310T145033Z
UID:10003142-1795689000-1795698000@lifestylesofmd.org
SUMMARY:Charles County Homeless Street Outreach – LifeStyles Center (White Plains)
DESCRIPTION:Homeless Outreach is held at the LifeStyles Center in White Plains each Thursday\, providing food\, water\, transportation vouchers\, housing resources\, information\, and other support services to those in need. No appointment is necessary—just stop by.
URL:https://lifestylesofmd.org/event/charles-county-homeless-street-outreach-2-2-2/2026-11-26/
LOCATION:White Plains LifeStyles Center\, 10453 Theodore Green Blvd.\, White Plains\, MD\, 20695\, United States
END:VEVENT
BEGIN:VEVENT
DTSTART;TZID=America/New_York:20261130T110000
DTEND;TZID=America/New_York:20261130T130000
DTSTAMP:20260422T202102
CREATED:20260407T201229Z
LAST-MODIFIED:20260410T140055Z
UID:10003204-1796036400-1796043600@lifestylesofmd.org
SUMMARY:Cornerstone Behavioral Health
DESCRIPTION:Behavioral health services\, including mental health support\, counseling resources\, and guidance for individuals seeking care.
URL:https://lifestylesofmd.org/event/cornerstone-behavioral-health/2026-11-30/
LOCATION:White Plains LifeStyles Center\, 10453 Theodore Green Blvd.\, White Plains\, MD\, 20695\, United States
CATEGORIES:Homeless Services
END:VEVENT
BEGIN:VEVENT
DTSTART;TZID=UTC:20261203T103000
DTEND;TZID=UTC:20261203T130000
DTSTAMP:20260422T202102
CREATED:20260310T143316Z
LAST-MODIFIED:20260310T145033Z
UID:10003143-1796293800-1796302800@lifestylesofmd.org
SUMMARY:Charles County Homeless Street Outreach – LifeStyles Center (White Plains)
DESCRIPTION:Homeless Outreach is held at the LifeStyles Center in White Plains each Thursday\, providing food\, water\, transportation vouchers\, housing resources\, information\, and other support services to those in need. No appointment is necessary—just stop by.
URL:https://lifestylesofmd.org/event/charles-county-homeless-street-outreach-2-2-2/2026-12-03/
LOCATION:White Plains LifeStyles Center\, 10453 Theodore Green Blvd.\, White Plains\, MD\, 20695\, United States
END:VEVENT
BEGIN:VEVENT
DTSTART;TZID=UTC:20261210T103000
DTEND;TZID=UTC:20261210T130000
DTSTAMP:20260422T202102
CREATED:20260310T143316Z
LAST-MODIFIED:20260310T145033Z
UID:10003144-1796898600-1796907600@lifestylesofmd.org
SUMMARY:Charles County Homeless Street Outreach – LifeStyles Center (White Plains)
DESCRIPTION:Homeless Outreach is held at the LifeStyles Center in White Plains each Thursday\, providing food\, water\, transportation vouchers\, housing resources\, information\, and other support services to those in need. No appointment is necessary—just stop by.
URL:https://lifestylesofmd.org/event/charles-county-homeless-street-outreach-2-2-2/2026-12-10/
LOCATION:White Plains LifeStyles Center\, 10453 Theodore Green Blvd.\, White Plains\, MD\, 20695\, United States
END:VEVENT
BEGIN:VEVENT
DTSTART;TZID=America/New_York:20261214T110000
DTEND;TZID=America/New_York:20261214T130000
DTSTAMP:20260422T202102
CREATED:20260407T201229Z
LAST-MODIFIED:20260410T140055Z
UID:10003205-1797246000-1797253200@lifestylesofmd.org
SUMMARY:Cornerstone Behavioral Health
DESCRIPTION:Behavioral health services\, including mental health support\, counseling resources\, and guidance for individuals seeking care.
URL:https://lifestylesofmd.org/event/cornerstone-behavioral-health/2026-12-14/
LOCATION:White Plains LifeStyles Center\, 10453 Theodore Green Blvd.\, White Plains\, MD\, 20695\, United States
CATEGORIES:Homeless Services
END:VEVENT
BEGIN:VEVENT
DTSTART;TZID=UTC:20261217T103000
DTEND;TZID=UTC:20261217T130000
DTSTAMP:20260422T202102
CREATED:20260310T143316Z
LAST-MODIFIED:20260310T145033Z
UID:10003145-1797503400-1797512400@lifestylesofmd.org
SUMMARY:Charles County Homeless Street Outreach – LifeStyles Center (White Plains)
DESCRIPTION:Homeless Outreach is held at the LifeStyles Center in White Plains each Thursday\, providing food\, water\, transportation vouchers\, housing resources\, information\, and other support services to those in need. No appointment is necessary—just stop by.
URL:https://lifestylesofmd.org/event/charles-county-homeless-street-outreach-2-2-2/2026-12-17/
LOCATION:White Plains LifeStyles Center\, 10453 Theodore Green Blvd.\, White Plains\, MD\, 20695\, United States
END:VEVENT
BEGIN:VEVENT
DTSTART;TZID=UTC:20261224T103000
DTEND;TZID=UTC:20261224T130000
DTSTAMP:20260422T202102
CREATED:20260310T143316Z
LAST-MODIFIED:20260310T145033Z
UID:10003146-1798108200-1798117200@lifestylesofmd.org
SUMMARY:Charles County Homeless Street Outreach – LifeStyles Center (White Plains)
DESCRIPTION:Homeless Outreach is held at the LifeStyles Center in White Plains each Thursday\, providing food\, water\, transportation vouchers\, housing resources\, information\, and other support services to those in need. No appointment is necessary—just stop by.
URL:https://lifestylesofmd.org/event/charles-county-homeless-street-outreach-2-2-2/2026-12-24/
LOCATION:White Plains LifeStyles Center\, 10453 Theodore Green Blvd.\, White Plains\, MD\, 20695\, United States
END:VEVENT
BEGIN:VEVENT
DTSTART;TZID=America/New_York:20261228T110000
DTEND;TZID=America/New_York:20261228T130000
DTSTAMP:20260422T202102
CREATED:20260407T201229Z
LAST-MODIFIED:20260410T140055Z
UID:10003206-1798455600-1798462800@lifestylesofmd.org
SUMMARY:Cornerstone Behavioral Health
DESCRIPTION:Behavioral health services\, including mental health support\, counseling resources\, and guidance for individuals seeking care.
URL:https://lifestylesofmd.org/event/cornerstone-behavioral-health/2026-12-28/
LOCATION:White Plains LifeStyles Center\, 10453 Theodore Green Blvd.\, White Plains\, MD\, 20695\, United States
CATEGORIES:Homeless Services
END:VEVENT
BEGIN:VEVENT
DTSTART;TZID=UTC:20261231T103000
DTEND;TZID=UTC:20261231T130000
DTSTAMP:20260422T202102
CREATED:20260310T143316Z
LAST-MODIFIED:20260310T145033Z
UID:10003147-1798713000-1798722000@lifestylesofmd.org
SUMMARY:Charles County Homeless Street Outreach – LifeStyles Center (White Plains)
DESCRIPTION:Homeless Outreach is held at the LifeStyles Center in White Plains each Thursday\, providing food\, water\, transportation vouchers\, housing resources\, information\, and other support services to those in need. No appointment is necessary—just stop by.
URL:https://lifestylesofmd.org/event/charles-county-homeless-street-outreach-2-2-2/2026-12-31/
LOCATION:White Plains LifeStyles Center\, 10453 Theodore Green Blvd.\, White Plains\, MD\, 20695\, United States
END:VEVENT
BEGIN:VEVENT
DTSTART;TZID=UTC:20270107T103000
DTEND;TZID=UTC:20270107T130000
DTSTAMP:20260422T202102
CREATED:20260310T143316Z
LAST-MODIFIED:20260310T145033Z
UID:10003148-1799317800-1799326800@lifestylesofmd.org
SUMMARY:Charles County Homeless Street Outreach – LifeStyles Center (White Plains)
DESCRIPTION:Homeless Outreach is held at the LifeStyles Center in White Plains each Thursday\, providing food\, water\, transportation vouchers\, housing resources\, information\, and other support services to those in need. No appointment is necessary—just stop by.
URL:https://lifestylesofmd.org/event/charles-county-homeless-street-outreach-2-2-2/2027-01-07/
LOCATION:White Plains LifeStyles Center\, 10453 Theodore Green Blvd.\, White Plains\, MD\, 20695\, United States
END:VEVENT
BEGIN:VEVENT
DTSTART;TZID=America/New_York:20270111T110000
DTEND;TZID=America/New_York:20270111T130000
DTSTAMP:20260422T202102
CREATED:20260407T201229Z
LAST-MODIFIED:20260410T140055Z
UID:10003207-1799665200-1799672400@lifestylesofmd.org
SUMMARY:Cornerstone Behavioral Health
DESCRIPTION:Behavioral health services\, including mental health support\, counseling resources\, and guidance for individuals seeking care.
URL:https://lifestylesofmd.org/event/cornerstone-behavioral-health/2027-01-11/
LOCATION:White Plains LifeStyles Center\, 10453 Theodore Green Blvd.\, White Plains\, MD\, 20695\, United States
CATEGORIES:Homeless Services
END:VEVENT
BEGIN:VEVENT
DTSTART;TZID=UTC:20270114T103000
DTEND;TZID=UTC:20270114T130000
DTSTAMP:20260422T202102
CREATED:20260310T143316Z
LAST-MODIFIED:20260310T145033Z
UID:10003149-1799922600-1799931600@lifestylesofmd.org
SUMMARY:Charles County Homeless Street Outreach – LifeStyles Center (White Plains)
DESCRIPTION:Homeless Outreach is held at the LifeStyles Center in White Plains each Thursday\, providing food\, water\, transportation vouchers\, housing resources\, information\, and other support services to those in need. No appointment is necessary—just stop by.
URL:https://lifestylesofmd.org/event/charles-county-homeless-street-outreach-2-2-2/2027-01-14/
LOCATION:White Plains LifeStyles Center\, 10453 Theodore Green Blvd.\, White Plains\, MD\, 20695\, United States
END:VEVENT
BEGIN:VEVENT
DTSTART;TZID=UTC:20270121T103000
DTEND;TZID=UTC:20270121T130000
DTSTAMP:20260422T202102
CREATED:20260310T143316Z
LAST-MODIFIED:20260310T145033Z
UID:10003150-1800527400-1800536400@lifestylesofmd.org
SUMMARY:Charles County Homeless Street Outreach – LifeStyles Center (White Plains)
DESCRIPTION:Homeless Outreach is held at the LifeStyles Center in White Plains each Thursday\, providing food\, water\, transportation vouchers\, housing resources\, information\, and other support services to those in need. No appointment is necessary—just stop by.
URL:https://lifestylesofmd.org/event/charles-county-homeless-street-outreach-2-2-2/2027-01-21/
LOCATION:White Plains LifeStyles Center\, 10453 Theodore Green Blvd.\, White Plains\, MD\, 20695\, United States
END:VEVENT
BEGIN:VEVENT
DTSTART;TZID=America/New_York:20270125T110000
DTEND;TZID=America/New_York:20270125T130000
DTSTAMP:20260422T202102
CREATED:20260407T201229Z
LAST-MODIFIED:20260410T140055Z
UID:10003208-1800874800-1800882000@lifestylesofmd.org
SUMMARY:Cornerstone Behavioral Health
DESCRIPTION:Behavioral health services\, including mental health support\, counseling resources\, and guidance for individuals seeking care.
URL:https://lifestylesofmd.org/event/cornerstone-behavioral-health/2027-01-25/
LOCATION:White Plains LifeStyles Center\, 10453 Theodore Green Blvd.\, White Plains\, MD\, 20695\, United States
CATEGORIES:Homeless Services
END:VEVENT
END:VCALENDAR