BEGIN:VCALENDAR
VERSION:2.0
PRODID:-//LifeStyles of Maryland, Inc. - ECPv6.15.20//NONSGML v1.0//EN
CALSCALE:GREGORIAN
METHOD:PUBLISH
X-WR-CALNAME:LifeStyles of Maryland, Inc.
X-ORIGINAL-URL:https://lifestylesofmd.org
X-WR-CALDESC:Events for LifeStyles of Maryland, Inc.
REFRESH-INTERVAL;VALUE=DURATION:PT1H
X-Robots-Tag:noindex
X-PUBLISHED-TTL:PT1H
BEGIN:VTIMEZONE
TZID:America/New_York
BEGIN:DAYLIGHT
TZOFFSETFROM:-0500
TZOFFSETTO:-0400
TZNAME:EDT
DTSTART:20250309T070000
END:DAYLIGHT
BEGIN:STANDARD
TZOFFSETFROM:-0400
TZOFFSETTO:-0500
TZNAME:EST
DTSTART:20251102T060000
END:STANDARD
BEGIN:DAYLIGHT
TZOFFSETFROM:-0500
TZOFFSETTO:-0400
TZNAME:EDT
DTSTART:20260308T070000
END:DAYLIGHT
BEGIN:STANDARD
TZOFFSETFROM:-0400
TZOFFSETTO:-0500
TZNAME:EST
DTSTART:20261101T060000
END:STANDARD
BEGIN:DAYLIGHT
TZOFFSETFROM:-0500
TZOFFSETTO:-0400
TZNAME:EDT
DTSTART:20270314T070000
END:DAYLIGHT
BEGIN:STANDARD
TZOFFSETFROM:-0400
TZOFFSETTO:-0500
TZNAME:EST
DTSTART:20271107T060000
END:STANDARD
END:VTIMEZONE
BEGIN:VTIMEZONE
TZID:UTC
BEGIN:STANDARD
TZOFFSETFROM:+0000
TZOFFSETTO:+0000
TZNAME:UTC
DTSTART:20250101T000000
END:STANDARD
END:VTIMEZONE
BEGIN:VEVENT
DTSTART;TZID=America/New_York:20260328T090000
DTEND;TZID=America/New_York:20260328T120000
DTSTAMP:20260422T184847
CREATED:20260317T164224Z
LAST-MODIFIED:20260407T201849Z
UID:10003170-1774688400-1774699200@lifestylesofmd.org
SUMMARY:Get Back on Your Feet: Financial Recovery & Stability Resource Event
DESCRIPTION:LifeStyles of Maryland is partnering with Senator Alsobrooks and the United Way of the National Capital Area to connect community members with resources that support financial recovery and stability. \nJoin us to meet with local organizations\, get your questions answered and take steps toward a more secure future. \nResources available include: \n\n\nUtility assistance \n\n\nWorkforce development \n\n\nCredit counseling \n\n\nDebt repair \n\n\nRental assistance \n\n\nFinancial advising \n\n\nConstituent services \n\n\nRSVP: https://t.ly/ONYOURFEET2026
URL:https://lifestylesofmd.org/event/get-back-on-your-feet-financial-recovery-stability-resource-event/
LOCATION:College of Southern Maryland – Center for Health Sciences\, 6105 Fosters Place\, Hughesville\, MD\, 20637\, United States
CATEGORIES:Homeless Services
END:VEVENT
BEGIN:VEVENT
DTSTART;TZID=America/New_York:20260327T110000
DTEND;TZID=America/New_York:20260327T150000
DTSTAMP:20260422T184847
CREATED:20260306T165245Z
LAST-MODIFIED:20260407T201843Z
UID:10002726-1774609200-1774623600@lifestylesofmd.org
SUMMARY:Calvert Resource Day
DESCRIPTION:
URL:https://lifestylesofmd.org/event/calvert-resource-day/
LOCATION:College of Southern Marylad\, Prince Federick\, 15 J W Williams Rd\, Prince Frederick\, MD\, 20678\, United States
CATEGORIES:Homeless Services
END:VEVENT
BEGIN:VEVENT
DTSTART;TZID=America/New_York:20260327T093000
DTEND;TZID=America/New_York:20260327T120000
DTSTAMP:20260422T184847
CREATED:20260208T124933Z
LAST-MODIFIED:20260208T124935Z
UID:10002645-1774603800-1774612800@lifestylesofmd.org
SUMMARY:Free Showers for the Homeless
DESCRIPTION:Free showers for the homeless are available each Friday from 9:30am to 12pm at the Waldorf West branch of the Charles County Public Library. Just drop in. No pre-registration required. *Schedule subject to change. Follow LifeStyles on Facebook for any updates.
URL:https://lifestylesofmd.org/event/free-showers-for-the-homeless-2-2/2026-03-27/
LOCATION:Charles County Public Library – Waldorf West\, 0405 O'Donnell Pl\, Waldorf\, 20603\, United States
END:VEVENT
BEGIN:VEVENT
DTSTART;TZID=UTC:20260326T103000
DTEND;TZID=UTC:20260326T130000
DTSTAMP:20260422T184847
CREATED:20260310T143316Z
LAST-MODIFIED:20260310T145033Z
UID:10003107-1774521000-1774530000@lifestylesofmd.org
SUMMARY:Charles County Homeless Street Outreach – LifeStyles Center (White Plains)
DESCRIPTION:Homeless Outreach is held at the LifeStyles Center in White Plains each Thursday\, providing food\, water\, transportation vouchers\, housing resources\, information\, and other support services to those in need. No appointment is necessary—just stop by.
URL:https://lifestylesofmd.org/event/charles-county-homeless-street-outreach-2-2-2/2026-03-26/
LOCATION:White Plains LifeStyles Center\, 10453 Theodore Green Blvd.\, White Plains\, MD\, 20695\, United States
END:VEVENT
BEGIN:VEVENT
DTSTART;TZID=America/New_York:20260326T080000
DTEND;TZID=America/New_York:20260326T100000
DTSTAMP:20260422T184847
CREATED:20260317T170847Z
LAST-MODIFIED:20260317T171035Z
UID:10003171-1774512000-1774519200@lifestylesofmd.org
SUMMARY:Women2Watch Speaker Series: Mindfulness – Why It Matters
DESCRIPTION:LifeStyles CEO Sandy Washington is among the featured speakers at Women2Watch\, an energizing morning gathering designed to help women reconnect\, recharge and realign — both personally and professionally. \nThese speakers will explore the importance of mindfulness and its impact on leadership\, well-being\, and everyday life. \nFeatured Speakers Include: \n\n\nSandy Washington\, CEO of LifeStyles of Maryland \n\n\nErica Anselmo\, Event CEO & Founder\, Erica’s Events & Décor \n\n\nTiffany Barber\, Executive Director\, Poise Movement \n\n\nModerated by Jeanne E. James\, Mayor of the Town of La Plata. \n🎟️ Register here: www.apgchesapeake.com/speakerseries2026
URL:https://lifestylesofmd.org/event/women2watch-speaker-series-mindfulness-why-it-matters/
LOCATION:College of Southern Maryland – Center for Health Sciences\, 6105 Fosters Place\, Hughesville\, MD\, 20637\, United States
END:VEVENT
BEGIN:VEVENT
DTSTART;TZID=America/New_York:20260325T120000
DTEND;TZID=America/New_York:20260325T130000
DTSTAMP:20260422T184847
CREATED:20260310T150601Z
LAST-MODIFIED:20260407T201857Z
UID:10003166-1774440000-1774443600@lifestylesofmd.org
SUMMARY:Calvert County Homeless Outreach – On Our Own (Huntingtown)
DESCRIPTION:Calvert County Homeless Outreach provides essential services and resources to individuals experiencing homelessness or housing instability. \nOutreach staff will be available to connect community members with assistance including food\, water\, shelter referrals\, benefits assistance\, employment resources\, transportation resources\, and more. \nLaundry vouchers and camping supplies may also be available. \nServices are provided on a first-come basis and the schedule is subject to change. \nServices Available \n\n\nFood and water \n\n\nLaundry vouchers \n\n\nCamping supplies \n\n\nShelter resources \n\n\nBenefits assistance \n\n\nHousing resources \n\n\nHealth resources \n\n\nVeterans resources \n\n\nEmployment assistance \n\n\nTransportation resources
URL:https://lifestylesofmd.org/event/calvert-county-homeless-outreach-on-our-own-huntingtown-2/
LOCATION:On Our Own\, Huntingtown\, 3850 Old Town Rd\, Huntingtown\, MD\, 20639\, United States
CATEGORIES:Homeless Services
END:VEVENT
BEGIN:VEVENT
DTSTART;TZID=America/New_York:20260325T103000
DTEND;TZID=America/New_York:20260325T113000
DTSTAMP:20260422T184847
CREATED:20260310T145826Z
LAST-MODIFIED:20260407T201905Z
UID:10003165-1774434600-1774438200@lifestylesofmd.org
SUMMARY:Calvert County Homeless Outreach – Prince Frederick Library
DESCRIPTION:Calvert County Homeless Outreach provides essential services and resources to individuals experiencing homelessness or housing instability. \nOutreach staff will be available to connect community members with assistance including food\, water\, shelter referrals\, benefits assistance\, employment resources\, transportation resources\, and more. \nLaundry vouchers and camping supplies may also be available. \nServices are provided on a first-come basis and the schedule is subject to change. \nServices Available \n\n\nFood and water \n\n\nLaundry vouchers \n\n\nCamping supplies \n\n\nShelter resources \n\n\nBenefits assistance \n\n\nHousing resources \n\n\nHealth resources \n\n\nVeterans resources \n\n\nEmployment assistance \n\n\nTransportation resources
URL:https://lifestylesofmd.org/event/calvert-county-homeless-outreach-prince-frederick-library/
LOCATION:Prince Frederick Library\, 850 Costley Way\, Prince Frederick\, MD\, 20678\, United States
CATEGORIES:Homeless Services
END:VEVENT
BEGIN:VEVENT
DTSTART;TZID=America/New_York:20260324T103000
DTEND;TZID=America/New_York:20260324T133000
DTSTAMP:20260422T184847
CREATED:20260310T145406Z
LAST-MODIFIED:20260407T201922Z
UID:10003164-1774348200-1774359000@lifestylesofmd.org
SUMMARY:St. Mary’s County Homeless Outreach – Robert E. Myers Center
DESCRIPTION:St. Mary’s County Homeless Outreach connects individuals experiencing homelessness or housing instability with essential services including food\, shelter resources\, benefits assistance\, employment resources\, and transportation support.
URL:https://lifestylesofmd.org/event/st-marys-county-homeless-outreach-robert-e-myers-center/
LOCATION:Robert E. Myers Center\, 21606 Sheriff Miedzinski Way\, Lexington Park\, MD\, 20653\, United States
CATEGORIES:Homeless Services
END:VEVENT
BEGIN:VEVENT
DTSTART;TZID=America/New_York:20260324T080000
DTEND;TZID=America/New_York:20260328T170000
DTSTAMP:20260422T184847
CREATED:20260306T165317Z
LAST-MODIFIED:20260316T135506Z
UID:10002723-1774339200-1774717200@lifestylesofmd.org
SUMMARY:Easter Basket Distribution — Charles County
DESCRIPTION:Families who pre-registered for Easter baskets will receive an email with important details about pickup times and logistics. \nPlease note that Easter baskets are only available for families who completed the pre-registration process. If you registered\, be sure to watch your email for instructions and additional information about when and where to pick up your basket.
URL:https://lifestylesofmd.org/event/easter-basket-distribution/
LOCATION:LifeStyles Distribution Center — Waldorf\, 3410 Leonardtown Rd\, Waldorf\, MD\, 20602\, United States
END:VEVENT
BEGIN:VEVENT
DTSTART;TZID=America/New_York:20260323T080000
DTEND;TZID=America/New_York:20260327T170000
DTSTAMP:20260422T184847
CREATED:20260316T140904Z
LAST-MODIFIED:20260316T140904Z
UID:10003169-1774252800-1774630800@lifestylesofmd.org
SUMMARY:Easter Basket Distribution — Calvert County
DESCRIPTION:Families who pre-registered for Easter baskets will receive an email with important details about pickup times and logistics. \nPlease note that Easter baskets are only available for families who completed the pre-registration process. If you registered\, be sure to watch your email for instructions and additional information about when and where to pick up your basket.
URL:https://lifestylesofmd.org/event/easter-basket-distribution-calvert-county/
LOCATION:LifeStyles of Maryland – Prince Frederick\, 301 Steeplechase Drive\, Suite 104\, Prince Frederick\, MD\, 20678\, United States
END:VEVENT
BEGIN:VEVENT
DTSTART;TZID=America/New_York:20260323T080000
DTEND;TZID=America/New_York:20260327T170000
DTSTAMP:20260422T184847
CREATED:20260316T140325Z
LAST-MODIFIED:20260316T140325Z
UID:10003168-1774252800-1774630800@lifestylesofmd.org
SUMMARY:Easter Basket Distribution — St. Mary's County
DESCRIPTION:Families who pre-registered for Easter baskets will receive an email with important details about pickup times and logistics. \nPlease note that Easter baskets are only available for families who completed the pre-registration process. If you registered\, be sure to watch your email for instructions and additional information about when and where to pick up your basket.
URL:https://lifestylesofmd.org/event/easter-basket-distribution-sm-county/
LOCATION:LifeStyles of Maryland – Lexington Park\, 21795-F N. Shangri-La Drive\, Lexington Park\, 20653\, United States
END:VEVENT
BEGIN:VEVENT
DTSTART;TZID=America/New_York:20260316T080000
DTEND;TZID=America/New_York:20260323T170000
DTSTAMP:20260422T184847
CREATED:20260217T191550Z
LAST-MODIFIED:20260217T191550Z
UID:10002729-1773648000-1774285200@lifestylesofmd.org
SUMMARY:Easter Basket Prep (Volunteers Needed)
DESCRIPTION:LifeStyles is once again preparing Easter Baskets to brighten the holiday for children across Southern Maryland! And we’ll be assembling more than 1\,000 baskets with items donated from our amazing community. \nWe’re looking for volunteers to help with the Easter Basket prep from March 16-23 at our Waldorf Distribution Center. We’d love it if you’d help. \nVisit our Volunteer page or\, if you’re already a registered volunteer\, sign up through your Volgistics account!
URL:https://lifestylesofmd.org/event/easter-basket-prep-volunteers-needed/
LOCATION:LifeStyles Distribution Center — Waldorf\, 3410 Leonardtown Rd\, Waldorf\, MD\, 20602\, United States
END:VEVENT
END:VCALENDAR