BEGIN:VCALENDAR
VERSION:2.0
PRODID:-//LifeStyles of Maryland, Inc. - ECPv6.15.20//NONSGML v1.0//EN
CALSCALE:GREGORIAN
METHOD:PUBLISH
X-WR-CALNAME:LifeStyles of Maryland, Inc.
X-ORIGINAL-URL:https://lifestylesofmd.org
X-WR-CALDESC:Events for LifeStyles of Maryland, Inc.
REFRESH-INTERVAL;VALUE=DURATION:PT1H
X-Robots-Tag:noindex
X-PUBLISHED-TTL:PT1H
BEGIN:VTIMEZONE
TZID:America/New_York
BEGIN:DAYLIGHT
TZOFFSETFROM:-0500
TZOFFSETTO:-0400
TZNAME:EDT
DTSTART:20250309T070000
END:DAYLIGHT
BEGIN:STANDARD
TZOFFSETFROM:-0400
TZOFFSETTO:-0500
TZNAME:EST
DTSTART:20251102T060000
END:STANDARD
BEGIN:DAYLIGHT
TZOFFSETFROM:-0500
TZOFFSETTO:-0400
TZNAME:EDT
DTSTART:20260308T070000
END:DAYLIGHT
BEGIN:STANDARD
TZOFFSETFROM:-0400
TZOFFSETTO:-0500
TZNAME:EST
DTSTART:20261101T060000
END:STANDARD
BEGIN:DAYLIGHT
TZOFFSETFROM:-0500
TZOFFSETTO:-0400
TZNAME:EDT
DTSTART:20270314T070000
END:DAYLIGHT
BEGIN:STANDARD
TZOFFSETFROM:-0400
TZOFFSETTO:-0500
TZNAME:EST
DTSTART:20271107T060000
END:STANDARD
END:VTIMEZONE
BEGIN:VTIMEZONE
TZID:UTC
BEGIN:STANDARD
TZOFFSETFROM:+0000
TZOFFSETTO:+0000
TZNAME:UTC
DTSTART:20250101T000000
END:STANDARD
END:VTIMEZONE
BEGIN:VEVENT
DTSTART;TZID=America/New_York:20260331T120000
DTEND;TZID=America/New_York:20260331T140000
DTSTAMP:20260422T133745
CREATED:20260310T150806Z
LAST-MODIFIED:20260407T201801Z
UID:10003167-1774958400-1774965600@lifestylesofmd.org
SUMMARY:St. Mary’s County Homeless Outreach – Lexington Park Library
DESCRIPTION:St. Mary’s County Homeless Outreach connects individuals experiencing homelessness or housing instability with essential services and support. \nOutreach staff will provide access to food and water\, laundry vouchers\, benefits assistance\, housing resources\, shelter referrals\, employment support\, and transportation resources. \nServices are provided on a first-come basis and may change without notice. \nServices Available \n\n\nFood and water \n\n\nLaundry vouchers \n\n\nCamping supplies \n\n\nShelter resources \n\n\nBenefits assistance \n\n\nHousing resources \n\n\nHealth resources \n\n\nVeterans resources \n\n\nEmployment assistance \n\n\nTransportation resources
URL:https://lifestylesofmd.org/event/st-marys-county-homeless-outreach-lexington-park-library-2/
LOCATION:Lexington Park Library\, 21677 Franklin Delano Roosevelt Blvd\, Lexington Park\, 20653
CATEGORIES:Homeless Services
END:VEVENT
BEGIN:VEVENT
DTSTART;TZID=UTC:20260402T103000
DTEND;TZID=UTC:20260402T130000
DTSTAMP:20260422T133745
CREATED:20260310T143316Z
LAST-MODIFIED:20260310T145033Z
UID:10003108-1775125800-1775134800@lifestylesofmd.org
SUMMARY:Charles County Homeless Street Outreach – LifeStyles Center (White Plains)
DESCRIPTION:Homeless Outreach is held at the LifeStyles Center in White Plains each Thursday\, providing food\, water\, transportation vouchers\, housing resources\, information\, and other support services to those in need. No appointment is necessary—just stop by.
URL:https://lifestylesofmd.org/event/charles-county-homeless-street-outreach-2-2-2/2026-04-02/
LOCATION:White Plains LifeStyles Center\, 10453 Theodore Green Blvd.\, White Plains\, MD\, 20695\, United States
END:VEVENT
BEGIN:VEVENT
DTSTART;TZID=America/New_York:20260403T093000
DTEND;TZID=America/New_York:20260403T120000
DTSTAMP:20260422T133745
CREATED:20260402T152357Z
LAST-MODIFIED:20260402T152358Z
UID:10002646-1775208600-1775217600@lifestylesofmd.org
SUMMARY:Free Showers for the Homeless - CANCELED
DESCRIPTION:Free showers for the homeless are available each Friday from 9:30am to 12pm at the Waldorf West branch of the Charles County Public Library. Just drop in. No pre-registration required. *Schedule subject to change. Follow LifeStyles on Facebook for any updates.
URL:https://lifestylesofmd.org/event/free-showers-for-the-homeless-2-2-2/
LOCATION:Charles County Public Library – Waldorf West\, 0405 O'Donnell Pl\, Waldorf\, 20603\, United States
END:VEVENT
BEGIN:VEVENT
DTSTART;TZID=America/New_York:20260406T090000
DTEND;TZID=America/New_York:20260406T150000
DTSTAMP:20260422T133745
CREATED:20260407T200725Z
LAST-MODIFIED:20260410T135630Z
UID:10003172-1775466000-1775487600@lifestylesofmd.org
SUMMARY:SNAP Assistance
DESCRIPTION:Assistance with applying for SNAP (Supplemental Nutrition Assistance Program)\, including help completing applications\, understanding eligibility requirements\, and answering questions about benefits. \nOccurs every Monday unless LifeStyles is closed.
URL:https://lifestylesofmd.org/event/snap-assistance/2026-04-06/
LOCATION:White Plains LifeStyles Center\, 10453 Theodore Green Blvd.\, White Plains\, MD\, 20695\, United States
CATEGORIES:Homeless Services
END:VEVENT
BEGIN:VEVENT
DTSTART;TZID=America/New_York:20260409T100000
DTEND;TZID=America/New_York:20260409T140000
DTSTAMP:20260422T133745
CREATED:20260306T172102Z
LAST-MODIFIED:20260407T201747Z
UID:10002732-1775728800-1775743200@lifestylesofmd.org
SUMMARY:St. Mary's County Benefits Access Day
DESCRIPTION:Need help accessing essential services? LifeStyles of Maryland is here to support you. Join us for Benefits Access Day\, where community members can connect with vital resources—all in one place. \nServices available include: \n\nMedical Insurance Assistance\nFinancial Assistance\nSNAP Applications\nFood\, Toiletries\, and Diapers\nShelter Referrals\nFREE Tax Preparation (appointment required)\n\nAppointments are required for tax preparation. Schedule your appointment in advance at:\nhttps://lifestylesofmd.org/free-tax-prep \nFor questions\, please contact LifeStyles of Maryland at 301-609-9900 or valexander@lifestylesofmd.org \nView the flyer: \n\nEnglish Flyer: Download
URL:https://lifestylesofmd.org/event/st-marys-county-benefits-access-day/
LOCATION:LifeStyles of Maryland – Lexington Park\, 21795-F N. Shangri-La Drive\, Lexington Park\, 20653\, United States
CATEGORIES:Homeless Services
END:VEVENT
BEGIN:VEVENT
DTSTART;TZID=UTC:20260409T103000
DTEND;TZID=UTC:20260409T130000
DTSTAMP:20260422T133745
CREATED:20260402T153717Z
LAST-MODIFIED:20260402T153718Z
UID:10003109-1775730600-1775739600@lifestylesofmd.org
SUMMARY:Charles County Homeless Street Outreach – LifeStyles Center (White Plains) - CANCELED
DESCRIPTION:Homeless Outreach is held at the LifeStyles Center in White Plains each Thursday\, providing food\, water\, transportation vouchers\, housing resources\, information\, and other support services to those in need. No appointment is necessary—just stop by.
URL:https://lifestylesofmd.org/event/charles-county-homeless-street-outreach-2-2-2-2/
LOCATION:White Plains LifeStyles Center\, 10453 Theodore Green Blvd.\, White Plains\, MD\, 20695\, United States
END:VEVENT
BEGIN:VEVENT
DTSTART;TZID=America/New_York:20260410T093000
DTEND;TZID=America/New_York:20260410T120000
DTSTAMP:20260422T133745
CREATED:20260208T124933Z
LAST-MODIFIED:20260208T124935Z
UID:10002647-1775813400-1775822400@lifestylesofmd.org
SUMMARY:Free Showers for the Homeless
DESCRIPTION:Free showers for the homeless are available each Friday from 9:30am to 12pm at the Waldorf West branch of the Charles County Public Library. Just drop in. No pre-registration required. *Schedule subject to change. Follow LifeStyles on Facebook for any updates.
URL:https://lifestylesofmd.org/event/free-showers-for-the-homeless-2-2/2026-04-10/
LOCATION:Charles County Public Library – Waldorf West\, 0405 O'Donnell Pl\, Waldorf\, 20603\, United States
END:VEVENT
BEGIN:VEVENT
DTSTART;TZID=America/New_York:20260413T090000
DTEND;TZID=America/New_York:20260413T150000
DTSTAMP:20260422T133745
CREATED:20260407T200725Z
LAST-MODIFIED:20260410T135630Z
UID:10003173-1776070800-1776092400@lifestylesofmd.org
SUMMARY:SNAP Assistance
DESCRIPTION:Assistance with applying for SNAP (Supplemental Nutrition Assistance Program)\, including help completing applications\, understanding eligibility requirements\, and answering questions about benefits. \nOccurs every Monday unless LifeStyles is closed.
URL:https://lifestylesofmd.org/event/snap-assistance/2026-04-13/
LOCATION:White Plains LifeStyles Center\, 10453 Theodore Green Blvd.\, White Plains\, MD\, 20695\, United States
CATEGORIES:Homeless Services
END:VEVENT
BEGIN:VEVENT
DTSTART;TZID=America/New_York:20260413T113000
DTEND;TZID=America/New_York:20260413T123000
DTSTAMP:20260422T133745
CREATED:20260407T200932Z
LAST-MODIFIED:20260407T200932Z
UID:10003175-1776079800-1776083400@lifestylesofmd.org
SUMMARY:Mobile Computer Lab
DESCRIPTION:Charles County Public Library (CCPL) Mobile Computer Lab offering hands-on technology education\, including basic computer skills\, internet navigation\, and access to digital resources.
URL:https://lifestylesofmd.org/event/mobile-computer-lab/
LOCATION:White Plains LifeStyles Center\, 10453 Theodore Green Blvd.\, White Plains\, MD\, 20695\, United States
CATEGORIES:Homeless Services
END:VEVENT
BEGIN:VEVENT
DTSTART;TZID=UTC:20260416T103000
DTEND;TZID=UTC:20260416T130000
DTSTAMP:20260422T133745
CREATED:20260310T143316Z
LAST-MODIFIED:20260310T145033Z
UID:10003110-1776335400-1776344400@lifestylesofmd.org
SUMMARY:Charles County Homeless Street Outreach – LifeStyles Center (White Plains)
DESCRIPTION:Homeless Outreach is held at the LifeStyles Center in White Plains each Thursday\, providing food\, water\, transportation vouchers\, housing resources\, information\, and other support services to those in need. No appointment is necessary—just stop by.
URL:https://lifestylesofmd.org/event/charles-county-homeless-street-outreach-2-2-2/2026-04-16/
LOCATION:White Plains LifeStyles Center\, 10453 Theodore Green Blvd.\, White Plains\, MD\, 20695\, United States
END:VEVENT
BEGIN:VEVENT
DTSTART;TZID=America/New_York:20260416T120000
DTEND;TZID=America/New_York:20260416T130000
DTSTAMP:20260422T133745
CREATED:20260407T201130Z
LAST-MODIFIED:20260407T201130Z
UID:10003176-1776340800-1776344400@lifestylesofmd.org
SUMMARY:40+ Double Dutch Club Lunch
DESCRIPTION:A free community lunch provided by the 40+ Double Dutch Club\, offering an opportunity for fellowship\, connection\, and a shared meal.
URL:https://lifestylesofmd.org/event/40-double-dutch-club-lunch/
LOCATION:White Plains LifeStyles Center\, 10453 Theodore Green Blvd.\, White Plains\, MD\, 20695\, United States
CATEGORIES:Homeless Services
END:VEVENT
BEGIN:VEVENT
DTSTART;TZID=America/New_York:20260417T093000
DTEND;TZID=America/New_York:20260417T120000
DTSTAMP:20260422T133745
CREATED:20260402T154858Z
LAST-MODIFIED:20260402T154859Z
UID:10002648-1776418200-1776427200@lifestylesofmd.org
SUMMARY:Free Showers for the Homeless - CANCELED
DESCRIPTION:Free showers for the homeless are available each Friday from 9:30am to 12pm at the Waldorf West branch of the Charles County Public Library. Just drop in. No pre-registration required. *Schedule subject to change. Follow LifeStyles on Facebook for any updates.
URL:https://lifestylesofmd.org/event/free-showers-for-the-homeless-2-2-3/
LOCATION:Charles County Public Library – Waldorf West\, 0405 O'Donnell Pl\, Waldorf\, 20603\, United States
END:VEVENT
BEGIN:VEVENT
DTSTART;TZID=America/New_York:20260420T090000
DTEND;TZID=America/New_York:20260420T150000
DTSTAMP:20260422T133745
CREATED:20260407T200725Z
LAST-MODIFIED:20260410T135630Z
UID:10003174-1776675600-1776697200@lifestylesofmd.org
SUMMARY:SNAP Assistance
DESCRIPTION:Assistance with applying for SNAP (Supplemental Nutrition Assistance Program)\, including help completing applications\, understanding eligibility requirements\, and answering questions about benefits. \nOccurs every Monday unless LifeStyles is closed.
URL:https://lifestylesofmd.org/event/snap-assistance/2026-04-20/
LOCATION:White Plains LifeStyles Center\, 10453 Theodore Green Blvd.\, White Plains\, MD\, 20695\, United States
CATEGORIES:Homeless Services
END:VEVENT
BEGIN:VEVENT
DTSTART;TZID=America/New_York:20260420T110000
DTEND;TZID=America/New_York:20260420T130000
DTSTAMP:20260422T133745
CREATED:20260407T201229Z
LAST-MODIFIED:20260410T140055Z
UID:10003177-1776682800-1776690000@lifestylesofmd.org
SUMMARY:Cornerstone Behavioral Health
DESCRIPTION:Behavioral health services\, including mental health support\, counseling resources\, and guidance for individuals seeking care.
URL:https://lifestylesofmd.org/event/cornerstone-behavioral-health/2026-04-20/
LOCATION:White Plains LifeStyles Center\, 10453 Theodore Green Blvd.\, White Plains\, MD\, 20695\, United States
CATEGORIES:Homeless Services
END:VEVENT
BEGIN:VEVENT
DTSTART;TZID=America/New_York:20260421T090000
DTEND;TZID=America/New_York:20260421T110000
DTSTAMP:20260422T133745
CREATED:20260407T201426Z
LAST-MODIFIED:20260407T201426Z
UID:10003178-1776762000-1776769200@lifestylesofmd.org
SUMMARY:Mobile Career Center
DESCRIPTION:Provides employment support\, including job search assistance\, resume help\, career counseling\, and access to workforce development resources.
URL:https://lifestylesofmd.org/event/mobile-career-center/
LOCATION:White Plains LifeStyles Center\, 10453 Theodore Green Blvd.\, White Plains\, MD\, 20695\, United States
CATEGORIES:Homeless Services
END:VEVENT
BEGIN:VEVENT
DTSTART;TZID=UTC:20260423T103000
DTEND;TZID=UTC:20260423T130000
DTSTAMP:20260422T133745
CREATED:20260310T143316Z
LAST-MODIFIED:20260310T145033Z
UID:10003111-1776940200-1776949200@lifestylesofmd.org
SUMMARY:Charles County Homeless Street Outreach – LifeStyles Center (White Plains)
DESCRIPTION:Homeless Outreach is held at the LifeStyles Center in White Plains each Thursday\, providing food\, water\, transportation vouchers\, housing resources\, information\, and other support services to those in need. No appointment is necessary—just stop by.
URL:https://lifestylesofmd.org/event/charles-county-homeless-street-outreach-2-2-2/2026-04-23/
LOCATION:White Plains LifeStyles Center\, 10453 Theodore Green Blvd.\, White Plains\, MD\, 20695\, United States
END:VEVENT
BEGIN:VEVENT
DTSTART;TZID=America/New_York:20260424T093000
DTEND;TZID=America/New_York:20260424T120000
DTSTAMP:20260422T133745
CREATED:20260208T124933Z
LAST-MODIFIED:20260208T124935Z
UID:10002649-1777023000-1777032000@lifestylesofmd.org
SUMMARY:Free Showers for the Homeless
DESCRIPTION:Free showers for the homeless are available each Friday from 9:30am to 12pm at the Waldorf West branch of the Charles County Public Library. Just drop in. No pre-registration required. *Schedule subject to change. Follow LifeStyles on Facebook for any updates.
URL:https://lifestylesofmd.org/event/free-showers-for-the-homeless-2-2/2026-04-24/
LOCATION:Charles County Public Library – Waldorf West\, 0405 O'Donnell Pl\, Waldorf\, 20603\, United States
END:VEVENT
BEGIN:VEVENT
DTSTART;TZID=America/New_York:20260427T090000
DTEND;TZID=America/New_York:20260427T150000
DTSTAMP:20260422T133745
CREATED:20260407T200725Z
LAST-MODIFIED:20260410T135630Z
UID:10003180-1777280400-1777302000@lifestylesofmd.org
SUMMARY:SNAP Assistance
DESCRIPTION:Assistance with applying for SNAP (Supplemental Nutrition Assistance Program)\, including help completing applications\, understanding eligibility requirements\, and answering questions about benefits. \nOccurs every Monday unless LifeStyles is closed.
URL:https://lifestylesofmd.org/event/snap-assistance/2026-04-27/
LOCATION:White Plains LifeStyles Center\, 10453 Theodore Green Blvd.\, White Plains\, MD\, 20695\, United States
CATEGORIES:Homeless Services
END:VEVENT
BEGIN:VEVENT
DTSTART;TZID=America/New_York:20260429T103000
DTEND;TZID=America/New_York:20260429T120000
DTSTAMP:20260422T133745
CREATED:20260407T201526Z
LAST-MODIFIED:20260407T201526Z
UID:10003179-1777458600-1777464000@lifestylesofmd.org
SUMMARY:Center for Children’s Youth/Young Adult Services
DESCRIPTION:Youth Intervention & Engagement services for individuals under age 24\, offering support\, guidance\, and resources to help navigate challenges and build positive life skills.
URL:https://lifestylesofmd.org/event/center-for-childrens-youth-young-adult-services/
LOCATION:White Plains LifeStyles Center\, 10453 Theodore Green Blvd.\, White Plains\, MD\, 20695\, United States
CATEGORIES:Homeless Services
END:VEVENT
BEGIN:VEVENT
DTSTART;TZID=UTC:20260430T103000
DTEND;TZID=UTC:20260430T130000
DTSTAMP:20260422T133745
CREATED:20260310T143316Z
LAST-MODIFIED:20260310T145033Z
UID:10003112-1777545000-1777554000@lifestylesofmd.org
SUMMARY:Charles County Homeless Street Outreach – LifeStyles Center (White Plains)
DESCRIPTION:Homeless Outreach is held at the LifeStyles Center in White Plains each Thursday\, providing food\, water\, transportation vouchers\, housing resources\, information\, and other support services to those in need. No appointment is necessary—just stop by.
URL:https://lifestylesofmd.org/event/charles-county-homeless-street-outreach-2-2-2/2026-04-30/
LOCATION:White Plains LifeStyles Center\, 10453 Theodore Green Blvd.\, White Plains\, MD\, 20695\, United States
END:VEVENT
BEGIN:VEVENT
DTSTART;TZID=America/New_York:20260501T093000
DTEND;TZID=America/New_York:20260501T120000
DTSTAMP:20260422T133745
CREATED:20260407T202042Z
LAST-MODIFIED:20260407T202043Z
UID:10002650-1777627800-1777636800@lifestylesofmd.org
SUMMARY:Free Showers for the Homeless
DESCRIPTION:Free showers for the homeless are available each Friday from 9:30am to 12pm at the Waldorf West branch of the Charles County Public Library. Just drop in. No pre-registration required. *Schedule subject to change. Follow LifeStyles on Facebook for any updates.
URL:https://lifestylesofmd.org/event/free-showers-for-the-homeless-2-2-4/2026-05-01/
LOCATION:Charles County Public Library – Waldorf West\, 0405 O'Donnell Pl\, Waldorf\, 20603\, United States
CATEGORIES:Homeless Services
END:VEVENT
BEGIN:VEVENT
DTSTART;TZID=America/New_York:20260504T090000
DTEND;TZID=America/New_York:20260504T150000
DTSTAMP:20260422T133745
CREATED:20260407T200725Z
LAST-MODIFIED:20260410T135630Z
UID:10003181-1777885200-1777906800@lifestylesofmd.org
SUMMARY:SNAP Assistance
DESCRIPTION:Assistance with applying for SNAP (Supplemental Nutrition Assistance Program)\, including help completing applications\, understanding eligibility requirements\, and answering questions about benefits. \nOccurs every Monday unless LifeStyles is closed.
URL:https://lifestylesofmd.org/event/snap-assistance/2026-05-04/
LOCATION:White Plains LifeStyles Center\, 10453 Theodore Green Blvd.\, White Plains\, MD\, 20695\, United States
CATEGORIES:Homeless Services
END:VEVENT
BEGIN:VEVENT
DTSTART;TZID=America/New_York:20260504T110000
DTEND;TZID=America/New_York:20260504T130000
DTSTAMP:20260422T133745
CREATED:20260407T201229Z
LAST-MODIFIED:20260410T140055Z
UID:10003189-1777892400-1777899600@lifestylesofmd.org
SUMMARY:Cornerstone Behavioral Health
DESCRIPTION:Behavioral health services\, including mental health support\, counseling resources\, and guidance for individuals seeking care.
URL:https://lifestylesofmd.org/event/cornerstone-behavioral-health/2026-05-04/
LOCATION:White Plains LifeStyles Center\, 10453 Theodore Green Blvd.\, White Plains\, MD\, 20695\, United States
CATEGORIES:Homeless Services
END:VEVENT
BEGIN:VEVENT
DTSTART;TZID=UTC:20260507T103000
DTEND;TZID=UTC:20260507T130000
DTSTAMP:20260422T133745
CREATED:20260310T143316Z
LAST-MODIFIED:20260310T145033Z
UID:10003113-1778149800-1778158800@lifestylesofmd.org
SUMMARY:Charles County Homeless Street Outreach – LifeStyles Center (White Plains)
DESCRIPTION:Homeless Outreach is held at the LifeStyles Center in White Plains each Thursday\, providing food\, water\, transportation vouchers\, housing resources\, information\, and other support services to those in need. No appointment is necessary—just stop by.
URL:https://lifestylesofmd.org/event/charles-county-homeless-street-outreach-2-2-2/2026-05-07/
LOCATION:White Plains LifeStyles Center\, 10453 Theodore Green Blvd.\, White Plains\, MD\, 20695\, United States
END:VEVENT
BEGIN:VEVENT
DTSTART;TZID=America/New_York:20260508T093000
DTEND;TZID=America/New_York:20260508T120000
DTSTAMP:20260422T133745
CREATED:20260407T202042Z
LAST-MODIFIED:20260407T202043Z
UID:10002651-1778232600-1778241600@lifestylesofmd.org
SUMMARY:Free Showers for the Homeless
DESCRIPTION:Free showers for the homeless are available each Friday from 9:30am to 12pm at the Waldorf West branch of the Charles County Public Library. Just drop in. No pre-registration required. *Schedule subject to change. Follow LifeStyles on Facebook for any updates.
URL:https://lifestylesofmd.org/event/free-showers-for-the-homeless-2-2-4/2026-05-08/
LOCATION:Charles County Public Library – Waldorf West\, 0405 O'Donnell Pl\, Waldorf\, 20603\, United States
CATEGORIES:Homeless Services
END:VEVENT
BEGIN:VEVENT
DTSTART;TZID=America/New_York:20260511T090000
DTEND;TZID=America/New_York:20260511T150000
DTSTAMP:20260422T133745
CREATED:20260407T200725Z
LAST-MODIFIED:20260410T135630Z
UID:10003182-1778490000-1778511600@lifestylesofmd.org
SUMMARY:SNAP Assistance
DESCRIPTION:Assistance with applying for SNAP (Supplemental Nutrition Assistance Program)\, including help completing applications\, understanding eligibility requirements\, and answering questions about benefits. \nOccurs every Monday unless LifeStyles is closed.
URL:https://lifestylesofmd.org/event/snap-assistance/2026-05-11/
LOCATION:White Plains LifeStyles Center\, 10453 Theodore Green Blvd.\, White Plains\, MD\, 20695\, United States
CATEGORIES:Homeless Services
END:VEVENT
BEGIN:VEVENT
DTSTART;TZID=UTC:20260514T103000
DTEND;TZID=UTC:20260514T130000
DTSTAMP:20260422T133745
CREATED:20260310T143316Z
LAST-MODIFIED:20260310T145033Z
UID:10003114-1778754600-1778763600@lifestylesofmd.org
SUMMARY:Charles County Homeless Street Outreach – LifeStyles Center (White Plains)
DESCRIPTION:Homeless Outreach is held at the LifeStyles Center in White Plains each Thursday\, providing food\, water\, transportation vouchers\, housing resources\, information\, and other support services to those in need. No appointment is necessary—just stop by.
URL:https://lifestylesofmd.org/event/charles-county-homeless-street-outreach-2-2-2/2026-05-14/
LOCATION:White Plains LifeStyles Center\, 10453 Theodore Green Blvd.\, White Plains\, MD\, 20695\, United States
END:VEVENT
BEGIN:VEVENT
DTSTART;TZID=America/New_York:20260515T093000
DTEND;TZID=America/New_York:20260515T120000
DTSTAMP:20260422T133745
CREATED:20260407T202042Z
LAST-MODIFIED:20260407T202043Z
UID:10002652-1778837400-1778846400@lifestylesofmd.org
SUMMARY:Free Showers for the Homeless
DESCRIPTION:Free showers for the homeless are available each Friday from 9:30am to 12pm at the Waldorf West branch of the Charles County Public Library. Just drop in. No pre-registration required. *Schedule subject to change. Follow LifeStyles on Facebook for any updates.
URL:https://lifestylesofmd.org/event/free-showers-for-the-homeless-2-2-4/2026-05-15/
LOCATION:Charles County Public Library – Waldorf West\, 0405 O'Donnell Pl\, Waldorf\, 20603\, United States
CATEGORIES:Homeless Services
END:VEVENT
BEGIN:VEVENT
DTSTART;TZID=America/New_York:20260518T080000
DTEND;TZID=America/New_York:20260518T170000
DTSTAMP:20260422T133745
CREATED:20260306T165011Z
LAST-MODIFIED:20260306T165011Z
UID:10002724-1779091200-1779123600@lifestylesofmd.org
SUMMARY:PPW Community Day
DESCRIPTION:
URL:https://lifestylesofmd.org/event/ppw-community-day/
LOCATION:St. Charles High School\, 5305 Piney Church Rd\, Waldorf\, MD\, 20602\, United States
END:VEVENT
BEGIN:VEVENT
DTSTART;TZID=America/New_York:20260518T090000
DTEND;TZID=America/New_York:20260518T150000
DTSTAMP:20260422T133745
CREATED:20260407T200725Z
LAST-MODIFIED:20260410T135630Z
UID:10003183-1779094800-1779116400@lifestylesofmd.org
SUMMARY:SNAP Assistance
DESCRIPTION:Assistance with applying for SNAP (Supplemental Nutrition Assistance Program)\, including help completing applications\, understanding eligibility requirements\, and answering questions about benefits. \nOccurs every Monday unless LifeStyles is closed.
URL:https://lifestylesofmd.org/event/snap-assistance/2026-05-18/
LOCATION:White Plains LifeStyles Center\, 10453 Theodore Green Blvd.\, White Plains\, MD\, 20695\, United States
CATEGORIES:Homeless Services
END:VEVENT
END:VCALENDAR