BEGIN:VCALENDAR
VERSION:2.0
PRODID:-//LifeStyles of Maryland, Inc. - ECPv6.15.20//NONSGML v1.0//EN
CALSCALE:GREGORIAN
METHOD:PUBLISH
X-WR-CALNAME:LifeStyles of Maryland, Inc.
X-ORIGINAL-URL:https://lifestylesofmd.org/es
X-WR-CALDESC:Events for LifeStyles of Maryland, Inc.
REFRESH-INTERVAL;VALUE=DURATION:PT1H
X-Robots-Tag:noindex
X-PUBLISHED-TTL:PT1H
BEGIN:VTIMEZONE
TZID:UTC
BEGIN:STANDARD
TZOFFSETFROM:+0000
TZOFFSETTO:+0000
TZNAME:UTC
DTSTART:20250101T000000
END:STANDARD
END:VTIMEZONE
BEGIN:VTIMEZONE
TZID:America/New_York
BEGIN:DAYLIGHT
TZOFFSETFROM:-0500
TZOFFSETTO:-0400
TZNAME:EDT
DTSTART:20250309T070000
END:DAYLIGHT
BEGIN:STANDARD
TZOFFSETFROM:-0400
TZOFFSETTO:-0500
TZNAME:EST
DTSTART:20251102T060000
END:STANDARD
BEGIN:DAYLIGHT
TZOFFSETFROM:-0500
TZOFFSETTO:-0400
TZNAME:EDT
DTSTART:20260308T070000
END:DAYLIGHT
BEGIN:STANDARD
TZOFFSETFROM:-0400
TZOFFSETTO:-0500
TZNAME:EST
DTSTART:20261101T060000
END:STANDARD
BEGIN:DAYLIGHT
TZOFFSETFROM:-0500
TZOFFSETTO:-0400
TZNAME:EDT
DTSTART:20270314T070000
END:DAYLIGHT
BEGIN:STANDARD
TZOFFSETFROM:-0400
TZOFFSETTO:-0500
TZNAME:EST
DTSTART:20271107T060000
END:STANDARD
BEGIN:DAYLIGHT
TZOFFSETFROM:-0500
TZOFFSETTO:-0400
TZNAME:EDT
DTSTART:20280312T070000
END:DAYLIGHT
BEGIN:STANDARD
TZOFFSETFROM:-0400
TZOFFSETTO:-0500
TZNAME:EST
DTSTART:20281105T060000
END:STANDARD
END:VTIMEZONE
BEGIN:VEVENT
DTSTART;TZID=UTC:20261203T103000
DTEND;TZID=UTC:20261203T130000
DTSTAMP:20260424T173830
CREATED:20260310T143316Z
LAST-MODIFIED:20260310T145033Z
UID:10003143-1796293800-1796302800@lifestylesofmd.org
SUMMARY:Charles County Homeless Street Outreach – LifeStyles Center (White Plains)
DESCRIPTION:Homeless Outreach is held at the LifeStyles Center in White Plains each Thursday\, providing food\, water\, transportation vouchers\, housing resources\, information\, and other support services to those in need. No appointment is necessary—just stop by.
URL:https://lifestylesofmd.org/es/event/charles-county-homeless-street-outreach-2-2-2/2026-12-03/
LOCATION:White Plains LifeStyles Center\, 10453 Theodore Green Blvd.\, White Plains\, MD\, 20695\, United States
END:VEVENT
BEGIN:VEVENT
DTSTART;TZID=UTC:20261210T103000
DTEND;TZID=UTC:20261210T130000
DTSTAMP:20260424T173830
CREATED:20260310T143316Z
LAST-MODIFIED:20260310T145033Z
UID:10003144-1796898600-1796907600@lifestylesofmd.org
SUMMARY:Charles County Homeless Street Outreach – LifeStyles Center (White Plains)
DESCRIPTION:Homeless Outreach is held at the LifeStyles Center in White Plains each Thursday\, providing food\, water\, transportation vouchers\, housing resources\, information\, and other support services to those in need. No appointment is necessary—just stop by.
URL:https://lifestylesofmd.org/es/event/charles-county-homeless-street-outreach-2-2-2/2026-12-10/
LOCATION:White Plains LifeStyles Center\, 10453 Theodore Green Blvd.\, White Plains\, MD\, 20695\, United States
END:VEVENT
BEGIN:VEVENT
DTSTART;TZID=America/New_York:20261214T110000
DTEND;TZID=America/New_York:20261214T130000
DTSTAMP:20260424T173830
CREATED:20260407T201229Z
LAST-MODIFIED:20260410T140055Z
UID:10003205-1797246000-1797253200@lifestylesofmd.org
SUMMARY:Cornerstone Behavioral Health
DESCRIPTION:Behavioral health services\, including mental health support\, counseling resources\, and guidance for individuals seeking care.
URL:https://lifestylesofmd.org/es/event/cornerstone-behavioral-health/2026-12-14/
LOCATION:White Plains LifeStyles Center\, 10453 Theodore Green Blvd.\, White Plains\, MD\, 20695\, United States
CATEGORIES:Homeless Services
END:VEVENT
BEGIN:VEVENT
DTSTART;TZID=UTC:20261217T103000
DTEND;TZID=UTC:20261217T130000
DTSTAMP:20260424T173830
CREATED:20260310T143316Z
LAST-MODIFIED:20260310T145033Z
UID:10003145-1797503400-1797512400@lifestylesofmd.org
SUMMARY:Charles County Homeless Street Outreach – LifeStyles Center (White Plains)
DESCRIPTION:Homeless Outreach is held at the LifeStyles Center in White Plains each Thursday\, providing food\, water\, transportation vouchers\, housing resources\, information\, and other support services to those in need. No appointment is necessary—just stop by.
URL:https://lifestylesofmd.org/es/event/charles-county-homeless-street-outreach-2-2-2/2026-12-17/
LOCATION:White Plains LifeStyles Center\, 10453 Theodore Green Blvd.\, White Plains\, MD\, 20695\, United States
END:VEVENT
BEGIN:VEVENT
DTSTART;TZID=UTC:20261224T103000
DTEND;TZID=UTC:20261224T130000
DTSTAMP:20260424T173830
CREATED:20260310T143316Z
LAST-MODIFIED:20260310T145033Z
UID:10003146-1798108200-1798117200@lifestylesofmd.org
SUMMARY:Charles County Homeless Street Outreach – LifeStyles Center (White Plains)
DESCRIPTION:Homeless Outreach is held at the LifeStyles Center in White Plains each Thursday\, providing food\, water\, transportation vouchers\, housing resources\, information\, and other support services to those in need. No appointment is necessary—just stop by.
URL:https://lifestylesofmd.org/es/event/charles-county-homeless-street-outreach-2-2-2/2026-12-24/
LOCATION:White Plains LifeStyles Center\, 10453 Theodore Green Blvd.\, White Plains\, MD\, 20695\, United States
END:VEVENT
BEGIN:VEVENT
DTSTART;TZID=America/New_York:20261228T110000
DTEND;TZID=America/New_York:20261228T130000
DTSTAMP:20260424T173830
CREATED:20260407T201229Z
LAST-MODIFIED:20260410T140055Z
UID:10003206-1798455600-1798462800@lifestylesofmd.org
SUMMARY:Cornerstone Behavioral Health
DESCRIPTION:Behavioral health services\, including mental health support\, counseling resources\, and guidance for individuals seeking care.
URL:https://lifestylesofmd.org/es/event/cornerstone-behavioral-health/2026-12-28/
LOCATION:White Plains LifeStyles Center\, 10453 Theodore Green Blvd.\, White Plains\, MD\, 20695\, United States
CATEGORIES:Homeless Services
END:VEVENT
BEGIN:VEVENT
DTSTART;TZID=UTC:20261231T103000
DTEND;TZID=UTC:20261231T130000
DTSTAMP:20260424T173830
CREATED:20260310T143316Z
LAST-MODIFIED:20260310T145033Z
UID:10003147-1798713000-1798722000@lifestylesofmd.org
SUMMARY:Charles County Homeless Street Outreach – LifeStyles Center (White Plains)
DESCRIPTION:Homeless Outreach is held at the LifeStyles Center in White Plains each Thursday\, providing food\, water\, transportation vouchers\, housing resources\, information\, and other support services to those in need. No appointment is necessary—just stop by.
URL:https://lifestylesofmd.org/es/event/charles-county-homeless-street-outreach-2-2-2/2026-12-31/
LOCATION:White Plains LifeStyles Center\, 10453 Theodore Green Blvd.\, White Plains\, MD\, 20695\, United States
END:VEVENT
BEGIN:VEVENT
DTSTART;TZID=UTC:20270107T103000
DTEND;TZID=UTC:20270107T130000
DTSTAMP:20260424T173830
CREATED:20260310T143316Z
LAST-MODIFIED:20260310T145033Z
UID:10003148-1799317800-1799326800@lifestylesofmd.org
SUMMARY:Charles County Homeless Street Outreach – LifeStyles Center (White Plains)
DESCRIPTION:Homeless Outreach is held at the LifeStyles Center in White Plains each Thursday\, providing food\, water\, transportation vouchers\, housing resources\, information\, and other support services to those in need. No appointment is necessary—just stop by.
URL:https://lifestylesofmd.org/es/event/charles-county-homeless-street-outreach-2-2-2/2027-01-07/
LOCATION:White Plains LifeStyles Center\, 10453 Theodore Green Blvd.\, White Plains\, MD\, 20695\, United States
END:VEVENT
BEGIN:VEVENT
DTSTART;TZID=America/New_York:20270111T110000
DTEND;TZID=America/New_York:20270111T130000
DTSTAMP:20260424T173830
CREATED:20260407T201229Z
LAST-MODIFIED:20260410T140055Z
UID:10003207-1799665200-1799672400@lifestylesofmd.org
SUMMARY:Cornerstone Behavioral Health
DESCRIPTION:Behavioral health services\, including mental health support\, counseling resources\, and guidance for individuals seeking care.
URL:https://lifestylesofmd.org/es/event/cornerstone-behavioral-health/2027-01-11/
LOCATION:White Plains LifeStyles Center\, 10453 Theodore Green Blvd.\, White Plains\, MD\, 20695\, United States
CATEGORIES:Homeless Services
END:VEVENT
BEGIN:VEVENT
DTSTART;TZID=UTC:20270114T103000
DTEND;TZID=UTC:20270114T130000
DTSTAMP:20260424T173830
CREATED:20260310T143316Z
LAST-MODIFIED:20260310T145033Z
UID:10003149-1799922600-1799931600@lifestylesofmd.org
SUMMARY:Charles County Homeless Street Outreach – LifeStyles Center (White Plains)
DESCRIPTION:Homeless Outreach is held at the LifeStyles Center in White Plains each Thursday\, providing food\, water\, transportation vouchers\, housing resources\, information\, and other support services to those in need. No appointment is necessary—just stop by.
URL:https://lifestylesofmd.org/es/event/charles-county-homeless-street-outreach-2-2-2/2027-01-14/
LOCATION:White Plains LifeStyles Center\, 10453 Theodore Green Blvd.\, White Plains\, MD\, 20695\, United States
END:VEVENT
BEGIN:VEVENT
DTSTART;TZID=UTC:20270121T103000
DTEND;TZID=UTC:20270121T130000
DTSTAMP:20260424T173830
CREATED:20260310T143316Z
LAST-MODIFIED:20260310T145033Z
UID:10003150-1800527400-1800536400@lifestylesofmd.org
SUMMARY:Charles County Homeless Street Outreach – LifeStyles Center (White Plains)
DESCRIPTION:Homeless Outreach is held at the LifeStyles Center in White Plains each Thursday\, providing food\, water\, transportation vouchers\, housing resources\, information\, and other support services to those in need. No appointment is necessary—just stop by.
URL:https://lifestylesofmd.org/es/event/charles-county-homeless-street-outreach-2-2-2/2027-01-21/
LOCATION:White Plains LifeStyles Center\, 10453 Theodore Green Blvd.\, White Plains\, MD\, 20695\, United States
END:VEVENT
BEGIN:VEVENT
DTSTART;TZID=America/New_York:20270125T110000
DTEND;TZID=America/New_York:20270125T130000
DTSTAMP:20260424T173830
CREATED:20260407T201229Z
LAST-MODIFIED:20260410T140055Z
UID:10003208-1800874800-1800882000@lifestylesofmd.org
SUMMARY:Cornerstone Behavioral Health
DESCRIPTION:Behavioral health services\, including mental health support\, counseling resources\, and guidance for individuals seeking care.
URL:https://lifestylesofmd.org/es/event/cornerstone-behavioral-health/2027-01-25/
LOCATION:White Plains LifeStyles Center\, 10453 Theodore Green Blvd.\, White Plains\, MD\, 20695\, United States
CATEGORIES:Homeless Services
END:VEVENT
BEGIN:VEVENT
DTSTART;TZID=UTC:20270128T103000
DTEND;TZID=UTC:20270128T130000
DTSTAMP:20260424T173830
CREATED:20260310T143316Z
LAST-MODIFIED:20260310T145033Z
UID:10003151-1801132200-1801141200@lifestylesofmd.org
SUMMARY:Charles County Homeless Street Outreach – LifeStyles Center (White Plains)
DESCRIPTION:Homeless Outreach is held at the LifeStyles Center in White Plains each Thursday\, providing food\, water\, transportation vouchers\, housing resources\, information\, and other support services to those in need. No appointment is necessary—just stop by.
URL:https://lifestylesofmd.org/es/event/charles-county-homeless-street-outreach-2-2-2/2027-01-28/
LOCATION:White Plains LifeStyles Center\, 10453 Theodore Green Blvd.\, White Plains\, MD\, 20695\, United States
END:VEVENT
BEGIN:VEVENT
DTSTART;TZID=UTC:20270204T103000
DTEND;TZID=UTC:20270204T130000
DTSTAMP:20260424T173830
CREATED:20260310T143316Z
LAST-MODIFIED:20260310T145033Z
UID:10003152-1801737000-1801746000@lifestylesofmd.org
SUMMARY:Charles County Homeless Street Outreach – LifeStyles Center (White Plains)
DESCRIPTION:Homeless Outreach is held at the LifeStyles Center in White Plains each Thursday\, providing food\, water\, transportation vouchers\, housing resources\, information\, and other support services to those in need. No appointment is necessary—just stop by.
URL:https://lifestylesofmd.org/es/event/charles-county-homeless-street-outreach-2-2-2/2027-02-04/
LOCATION:White Plains LifeStyles Center\, 10453 Theodore Green Blvd.\, White Plains\, MD\, 20695\, United States
END:VEVENT
BEGIN:VEVENT
DTSTART;TZID=America/New_York:20270208T110000
DTEND;TZID=America/New_York:20270208T130000
DTSTAMP:20260424T173830
CREATED:20260407T201229Z
LAST-MODIFIED:20260410T140055Z
UID:10003209-1802084400-1802091600@lifestylesofmd.org
SUMMARY:Cornerstone Behavioral Health
DESCRIPTION:Behavioral health services\, including mental health support\, counseling resources\, and guidance for individuals seeking care.
URL:https://lifestylesofmd.org/es/event/cornerstone-behavioral-health/2027-02-08/
LOCATION:White Plains LifeStyles Center\, 10453 Theodore Green Blvd.\, White Plains\, MD\, 20695\, United States
CATEGORIES:Homeless Services
END:VEVENT
BEGIN:VEVENT
DTSTART;TZID=UTC:20270211T103000
DTEND;TZID=UTC:20270211T130000
DTSTAMP:20260424T173830
CREATED:20260310T143316Z
LAST-MODIFIED:20260310T145033Z
UID:10003153-1802341800-1802350800@lifestylesofmd.org
SUMMARY:Charles County Homeless Street Outreach – LifeStyles Center (White Plains)
DESCRIPTION:Homeless Outreach is held at the LifeStyles Center in White Plains each Thursday\, providing food\, water\, transportation vouchers\, housing resources\, information\, and other support services to those in need. No appointment is necessary—just stop by.
URL:https://lifestylesofmd.org/es/event/charles-county-homeless-street-outreach-2-2-2/2027-02-11/
LOCATION:White Plains LifeStyles Center\, 10453 Theodore Green Blvd.\, White Plains\, MD\, 20695\, United States
END:VEVENT
BEGIN:VEVENT
DTSTART;TZID=UTC:20270218T103000
DTEND;TZID=UTC:20270218T130000
DTSTAMP:20260424T173830
CREATED:20260310T143316Z
LAST-MODIFIED:20260310T145033Z
UID:10003154-1802946600-1802955600@lifestylesofmd.org
SUMMARY:Charles County Homeless Street Outreach – LifeStyles Center (White Plains)
DESCRIPTION:Homeless Outreach is held at the LifeStyles Center in White Plains each Thursday\, providing food\, water\, transportation vouchers\, housing resources\, information\, and other support services to those in need. No appointment is necessary—just stop by.
URL:https://lifestylesofmd.org/es/event/charles-county-homeless-street-outreach-2-2-2/2027-02-18/
LOCATION:White Plains LifeStyles Center\, 10453 Theodore Green Blvd.\, White Plains\, MD\, 20695\, United States
END:VEVENT
BEGIN:VEVENT
DTSTART;TZID=America/New_York:20270222T110000
DTEND;TZID=America/New_York:20270222T130000
DTSTAMP:20260424T173830
CREATED:20260407T201229Z
LAST-MODIFIED:20260410T140055Z
UID:10003210-1803294000-1803301200@lifestylesofmd.org
SUMMARY:Cornerstone Behavioral Health
DESCRIPTION:Behavioral health services\, including mental health support\, counseling resources\, and guidance for individuals seeking care.
URL:https://lifestylesofmd.org/es/event/cornerstone-behavioral-health/2027-02-22/
LOCATION:White Plains LifeStyles Center\, 10453 Theodore Green Blvd.\, White Plains\, MD\, 20695\, United States
CATEGORIES:Homeless Services
END:VEVENT
BEGIN:VEVENT
DTSTART;TZID=UTC:20270225T103000
DTEND;TZID=UTC:20270225T130000
DTSTAMP:20260424T173830
CREATED:20260310T143316Z
LAST-MODIFIED:20260310T145033Z
UID:10003155-1803551400-1803560400@lifestylesofmd.org
SUMMARY:Charles County Homeless Street Outreach – LifeStyles Center (White Plains)
DESCRIPTION:Homeless Outreach is held at the LifeStyles Center in White Plains each Thursday\, providing food\, water\, transportation vouchers\, housing resources\, information\, and other support services to those in need. No appointment is necessary—just stop by.
URL:https://lifestylesofmd.org/es/event/charles-county-homeless-street-outreach-2-2-2/2027-02-25/
LOCATION:White Plains LifeStyles Center\, 10453 Theodore Green Blvd.\, White Plains\, MD\, 20695\, United States
END:VEVENT
BEGIN:VEVENT
DTSTART;TZID=UTC:20270304T103000
DTEND;TZID=UTC:20270304T130000
DTSTAMP:20260424T173830
CREATED:20260310T143316Z
LAST-MODIFIED:20260310T145033Z
UID:10003156-1804156200-1804165200@lifestylesofmd.org
SUMMARY:Charles County Homeless Street Outreach – LifeStyles Center (White Plains)
DESCRIPTION:Homeless Outreach is held at the LifeStyles Center in White Plains each Thursday\, providing food\, water\, transportation vouchers\, housing resources\, information\, and other support services to those in need. No appointment is necessary—just stop by.
URL:https://lifestylesofmd.org/es/event/charles-county-homeless-street-outreach-2-2-2/2027-03-04/
LOCATION:White Plains LifeStyles Center\, 10453 Theodore Green Blvd.\, White Plains\, MD\, 20695\, United States
END:VEVENT
BEGIN:VEVENT
DTSTART;TZID=America/New_York:20270308T110000
DTEND;TZID=America/New_York:20270308T130000
DTSTAMP:20260424T173830
CREATED:20260407T201229Z
LAST-MODIFIED:20260410T140055Z
UID:10003211-1804503600-1804510800@lifestylesofmd.org
SUMMARY:Cornerstone Behavioral Health
DESCRIPTION:Behavioral health services\, including mental health support\, counseling resources\, and guidance for individuals seeking care.
URL:https://lifestylesofmd.org/es/event/cornerstone-behavioral-health/2027-03-08/
LOCATION:White Plains LifeStyles Center\, 10453 Theodore Green Blvd.\, White Plains\, MD\, 20695\, United States
CATEGORIES:Homeless Services
END:VEVENT
BEGIN:VEVENT
DTSTART;TZID=UTC:20270311T103000
DTEND;TZID=UTC:20270311T130000
DTSTAMP:20260424T173830
CREATED:20260310T143316Z
LAST-MODIFIED:20260310T145033Z
UID:10003157-1804761000-1804770000@lifestylesofmd.org
SUMMARY:Charles County Homeless Street Outreach – LifeStyles Center (White Plains)
DESCRIPTION:Homeless Outreach is held at the LifeStyles Center in White Plains each Thursday\, providing food\, water\, transportation vouchers\, housing resources\, information\, and other support services to those in need. No appointment is necessary—just stop by.
URL:https://lifestylesofmd.org/es/event/charles-county-homeless-street-outreach-2-2-2/2027-03-11/
LOCATION:White Plains LifeStyles Center\, 10453 Theodore Green Blvd.\, White Plains\, MD\, 20695\, United States
END:VEVENT
BEGIN:VEVENT
DTSTART;TZID=UTC:20270318T103000
DTEND;TZID=UTC:20270318T130000
DTSTAMP:20260424T173830
CREATED:20260310T143316Z
LAST-MODIFIED:20260310T145033Z
UID:10003158-1805365800-1805374800@lifestylesofmd.org
SUMMARY:Charles County Homeless Street Outreach – LifeStyles Center (White Plains)
DESCRIPTION:Homeless Outreach is held at the LifeStyles Center in White Plains each Thursday\, providing food\, water\, transportation vouchers\, housing resources\, information\, and other support services to those in need. No appointment is necessary—just stop by.
URL:https://lifestylesofmd.org/es/event/charles-county-homeless-street-outreach-2-2-2/2027-03-18/
LOCATION:White Plains LifeStyles Center\, 10453 Theodore Green Blvd.\, White Plains\, MD\, 20695\, United States
END:VEVENT
BEGIN:VEVENT
DTSTART;TZID=America/New_York:20270322T110000
DTEND;TZID=America/New_York:20270322T130000
DTSTAMP:20260424T173830
CREATED:20260407T201229Z
LAST-MODIFIED:20260410T140055Z
UID:10003212-1805713200-1805720400@lifestylesofmd.org
SUMMARY:Cornerstone Behavioral Health
DESCRIPTION:Behavioral health services\, including mental health support\, counseling resources\, and guidance for individuals seeking care.
URL:https://lifestylesofmd.org/es/event/cornerstone-behavioral-health/2027-03-22/
LOCATION:White Plains LifeStyles Center\, 10453 Theodore Green Blvd.\, White Plains\, MD\, 20695\, United States
CATEGORIES:Homeless Services
END:VEVENT
BEGIN:VEVENT
DTSTART;TZID=UTC:20270325T103000
DTEND;TZID=UTC:20270325T130000
DTSTAMP:20260424T173830
CREATED:20260310T143316Z
LAST-MODIFIED:20260310T145033Z
UID:10003159-1805970600-1805979600@lifestylesofmd.org
SUMMARY:Charles County Homeless Street Outreach – LifeStyles Center (White Plains)
DESCRIPTION:Homeless Outreach is held at the LifeStyles Center in White Plains each Thursday\, providing food\, water\, transportation vouchers\, housing resources\, information\, and other support services to those in need. No appointment is necessary—just stop by.
URL:https://lifestylesofmd.org/es/event/charles-county-homeless-street-outreach-2-2-2/2027-03-25/
LOCATION:White Plains LifeStyles Center\, 10453 Theodore Green Blvd.\, White Plains\, MD\, 20695\, United States
END:VEVENT
BEGIN:VEVENT
DTSTART;TZID=UTC:20270401T103000
DTEND;TZID=UTC:20270401T130000
DTSTAMP:20260424T173830
CREATED:20260310T143316Z
LAST-MODIFIED:20260310T145033Z
UID:10003160-1806575400-1806584400@lifestylesofmd.org
SUMMARY:Charles County Homeless Street Outreach – LifeStyles Center (White Plains)
DESCRIPTION:Homeless Outreach is held at the LifeStyles Center in White Plains each Thursday\, providing food\, water\, transportation vouchers\, housing resources\, information\, and other support services to those in need. No appointment is necessary—just stop by.
URL:https://lifestylesofmd.org/es/event/charles-county-homeless-street-outreach-2-2-2/2027-04-01/
LOCATION:White Plains LifeStyles Center\, 10453 Theodore Green Blvd.\, White Plains\, MD\, 20695\, United States
END:VEVENT
BEGIN:VEVENT
DTSTART;TZID=America/New_York:20270405T110000
DTEND;TZID=America/New_York:20270405T130000
DTSTAMP:20260424T173830
CREATED:20260407T201229Z
LAST-MODIFIED:20260410T140055Z
UID:10003213-1806922800-1806930000@lifestylesofmd.org
SUMMARY:Cornerstone Behavioral Health
DESCRIPTION:Behavioral health services\, including mental health support\, counseling resources\, and guidance for individuals seeking care.
URL:https://lifestylesofmd.org/es/event/cornerstone-behavioral-health/2027-04-05/
LOCATION:White Plains LifeStyles Center\, 10453 Theodore Green Blvd.\, White Plains\, MD\, 20695\, United States
CATEGORIES:Homeless Services
END:VEVENT
BEGIN:VEVENT
DTSTART;TZID=UTC:20270408T103000
DTEND;TZID=UTC:20270408T130000
DTSTAMP:20260424T173830
CREATED:20260310T143316Z
LAST-MODIFIED:20260310T145033Z
UID:10003161-1807180200-1807189200@lifestylesofmd.org
SUMMARY:Charles County Homeless Street Outreach – LifeStyles Center (White Plains)
DESCRIPTION:Homeless Outreach is held at the LifeStyles Center in White Plains each Thursday\, providing food\, water\, transportation vouchers\, housing resources\, information\, and other support services to those in need. No appointment is necessary—just stop by.
URL:https://lifestylesofmd.org/es/event/charles-county-homeless-street-outreach-2-2-2/2027-04-08/
LOCATION:White Plains LifeStyles Center\, 10453 Theodore Green Blvd.\, White Plains\, MD\, 20695\, United States
END:VEVENT
BEGIN:VEVENT
DTSTART;TZID=UTC:20270415T103000
DTEND;TZID=UTC:20270415T130000
DTSTAMP:20260424T173830
CREATED:20260310T143316Z
LAST-MODIFIED:20260310T145033Z
UID:10003162-1807785000-1807794000@lifestylesofmd.org
SUMMARY:Charles County Homeless Street Outreach – LifeStyles Center (White Plains)
DESCRIPTION:Homeless Outreach is held at the LifeStyles Center in White Plains each Thursday\, providing food\, water\, transportation vouchers\, housing resources\, information\, and other support services to those in need. No appointment is necessary—just stop by.
URL:https://lifestylesofmd.org/es/event/charles-county-homeless-street-outreach-2-2-2/2027-04-15/
LOCATION:White Plains LifeStyles Center\, 10453 Theodore Green Blvd.\, White Plains\, MD\, 20695\, United States
END:VEVENT
BEGIN:VEVENT
DTSTART;TZID=America/New_York:20270419T110000
DTEND;TZID=America/New_York:20270419T130000
DTSTAMP:20260424T173830
CREATED:20260407T201229Z
LAST-MODIFIED:20260410T140055Z
UID:10003214-1808132400-1808139600@lifestylesofmd.org
SUMMARY:Cornerstone Behavioral Health
DESCRIPTION:Behavioral health services\, including mental health support\, counseling resources\, and guidance for individuals seeking care.
URL:https://lifestylesofmd.org/es/event/cornerstone-behavioral-health/2027-04-19/
LOCATION:White Plains LifeStyles Center\, 10453 Theodore Green Blvd.\, White Plains\, MD\, 20695\, United States
CATEGORIES:Homeless Services
END:VEVENT
END:VCALENDAR